BEGIN:VCALENDAR
VERSION:2.0
PRODID:icalendar-ruby
CALSCALE:GREGORIAN
METHOD:PUBLISH
BEGIN:VEVENT
DTSTAMP:20260425T215352Z
UID:5-412083@theapostolic202.tithelysetup2.com
DTSTART:20260607T173000Z
DTEND:20260607T183000Z
CLASS:PUBLIC
CREATED:20260424T174733
DESCRIPTION:Sunday Worship
LAST-MODIFIED:20260424T174733
LOCATION:
SUMMARY:Sunday Worship
URL;VALUE=URI:https://theapostolic202.tithelysetup2.com/events/sunday-worsh
 ip/2026-06-07
END:VEVENT
END:VCALENDAR
